BEGIN:VCALENDAR
VERSION:2.0
PRODID:-//www.pleasanthillchamber.org//NONSGML kigkonsult.se iCalcreator 2.
 30.10//
CALSCALE:GREGORIAN
METHOD:PUBLISH
UID:09d0671e-fe88-49d0-b25b-9f041fc994c2
X-WR-CALDESC:We are so excited to officially announce the return of this fa
 n favorite music festival! Get ready for FIVE nights of music and entertai
 nment! Every Friday night in June and the second Friday in July!\nTake a l
 ook at this band line up!\nJune 4th - Cody Hicks\nEvent Link: https://fb.m
 e/e/1l7MLSNBV\nJune 11th - Fahrenheit \nEvent Link: https://fb.me/e/3pRUUJ
 8bj\nJune 18th - Standing Hampton \nEvent Link: https://fb.me/e/VGZf0qjM\n
 June 25th - Gimikk\nEvent Link: https://fb.me/e/1zGdhbS0M\nJuly 9th - The 
 Crystal Blue Band\nEvent Link: https://fb.me/e/kOG6flTmy\nJoin us at Coppe
 r Creek Lake in Pleasant Hill IA! \nFridays from 6 to 9 PM \nMust be 21 or
  older \n$10 Admission\nA big thank you to our event sponsor: Elder Corpor
 ation\nAnd a thank you to our stage sponsors: RE/MAX Revolution\, Social E
 ats & Crafts\, Great Escape\, and Fareway Meat & Grocery
X-WR-RELCALID:b6e07c784d2380ce262301458dc2cba4
X-WR-TIMEZONE:America/Chicago
BEGIN:VTIMEZONE
TZID:America/Chicago
BEGIN:STANDARD
TZNAME:CST
DTSTART:20201101T020000
TZOFFSETFROM:-0500
TZOFFSETTO:-0600
RDATE:20211107T020000
RDATE:20221106T020000
END:STANDARD
BEGIN:DAYLIGHT
TZNAME:CDT
DTSTART:20210314T020000
TZOFFSETFROM:-0600
TZOFFSETTO:-0500
RDATE:20220313T020000
END:DAYLIGHT
END:VTIMEZONE
BEGIN:VEVENT
UID:6be16b95-8c41-4eae-9067-0bd193cecaab
DTSTAMP:20260422T082612Z
DESCRIPTION:We are so excited to officially announce the return of this fan
  favorite music festival! Get ready for FIVE nights of music and entertain
 ment! Every Friday night in June and the second Friday in July!\nTake a lo
 ok at this band line up!\nJune 4th - Cody Hicks\nEvent Link: https://fb.me
 /e/1l7MLSNBV\nJune 11th - Fahrenheit \nEvent Link: https://fb.me/e/3pRUUJ8
 bj\nJune 18th - Standing Hampton \nEvent Link: https://fb.me/e/VGZf0qjM\nJ
 une 25th - Gimikk\nEvent Link: https://fb.me/e/1zGdhbS0M\nJuly 9th - The C
 rystal Blue Band\nEvent Link: https://fb.me/e/kOG6flTmy\nJoin us at Copper
  Creek Lake in Pleasant Hill IA! \nFridays from 6 to 9 PM \nMust be 21 or 
 older \n$10 Admission\nA big thank you to our event sponsor: Elder Corpora
 tion\nAnd a thank you to our stage sponsors: RE/MAX Revolution\, Social Ea
 ts & Crafts\, Great Escape\, and Fareway Meat & Grocery
DTSTART;TZID=America/Chicago:20210625T180000
DTEND;TZID=America/Chicago:20210625T210000
LOCATION:Copper Creek Lake
SUMMARY:Chill on the Hill
END:VEVENT
END:VCALENDAR
