BEGIN:VCALENDAR
VERSION:2.0
PRODID:-//www.pleasanthillchamber.org//NONSGML kigkonsult.se iCalcreator 2.
 30.10//
CALSCALE:GREGORIAN
METHOD:PUBLISH
UID:25e6162c-8311-4aca-8e71-95a29a7dac62
X-WR-CALDESC:Get best practices for creating a YouTube Channel and compelli
 ng video content that promotes your products and services and drives engag
 ement with your brand. In this workshop we’ll discuss best practices for: 
 Understanding different video formats How to setup a YouTube channel Makin
 g good creative\, and how to target and measure the results
X-WR-RELCALID:5bf6948156ff1db55fcefd4d268b95b4
X-WR-TIMEZONE:America/Chicago
BEGIN:VTIMEZONE
TZID:America/Chicago
BEGIN:STANDARD
TZNAME:CST
DTSTART:20211107T020000
TZOFFSETFROM:-0500
TZOFFSETTO:-0600
RDATE:20221106T020000
END:STANDARD
BEGIN:DAYLIGHT
TZNAME:CDT
DTSTART:20210314T020000
TZOFFSETFROM:-0600
TZOFFSETTO:-0500
RDATE:20220313T020000
RDATE:20230312T020000
END:DAYLIGHT
END:VTIMEZONE
BEGIN:VEVENT
UID:37be989e-9b8b-4674-9c72-c33c859b1cd9
DTSTAMP:20260420T042001Z
DESCRIPTION:Get best practices for creating a YouTube Channel and compellin
 g video content that promotes your products and services and drives engage
 ment with your brand. In this workshop we’ll discuss best practices for: U
 nderstanding different video formats How to setup a YouTube channel Making
  good creative\, and how to target and measure the results
DTSTART;TZID=America/Chicago:20211110T113000
DTEND;TZID=America/Chicago:20211110T123000
LOCATION:Zoom
SUMMARY:Grow with Google: Use Youtube to Grow Your Business
END:VEVENT
END:VCALENDAR
