BEGIN:VCALENDAR
VERSION:2.0
PRODID:-//www.pleasanthillchamber.org//NONSGML kigkonsult.se iCalcreator 2.
 30.10//
CALSCALE:GREGORIAN
METHOD:PUBLISH
UID:f414e5d7-b218-4ccb-b953-ed1af6891e01
X-WR-CALDESC:Join us for our May Chamber Unplugged.  This is a fun and info
 rmal networking event.\n\nIf the weather is nice\, we will have a bags tou
 rnament out on the patio that overlooks Copper Creek Lake otherwise\, we w
 ill play Kahoot! inside.\n\nProduct samples will be available to try.\n\nR
 egistration includes your choice of tea bomb.\n$15 per chamber member\n$20
  per non-member\n\nKindly RSVP by 5PM May 3rd.\n
X-WR-RELCALID:53a2d28c59abd7d4998afe7b2e0e8a87
X-WR-TIMEZONE:America/Chicago
BEGIN:VTIMEZONE
TZID:America/Chicago
BEGIN:STANDARD
TZNAME:CST
DTSTART:20221106T020000
TZOFFSETFROM:-0500
TZOFFSETTO:-0600
RDATE:20231105T020000
END:STANDARD
BEGIN:DAYLIGHT
TZNAME:CDT
DTSTART:20230312T020000
TZOFFSETFROM:-0600
TZOFFSETTO:-0500
RDATE:20240310T020000
END:DAYLIGHT
END:VTIMEZONE
BEGIN:VEVENT
UID:145183ea-11fc-4fab-be91-2962f91145ea
DTSTAMP:20260421T101405Z
DESCRIPTION:Join us for our May Chamber Unplugged.  This is a fun and infor
 mal networking event.\n\nIf the weather is nice\, we will have a bags tour
 nament out on the patio that overlooks Copper Creek Lake otherwise\, we wi
 ll play Kahoot! inside.\n\nProduct samples will be available to try.\n\nRe
 gistration includes your choice of tea bomb.\n$15 per chamber member\n$20 
 per non-member\n\nKindly RSVP by 5PM May 3rd.\n
DTSTART;TZID=America/Chicago:20230504T163000
DTEND;TZID=America/Chicago:20230504T180000
LOCATION:1260 Copper Creek Dr\, Pleasant Hill\, IA 50327 US
SUMMARY:May Chamber Unplugged
END:VEVENT
END:VCALENDAR
