BEGIN:VCALENDAR
VERSION:2.0
PRODID:-//www.pleasanthillchamber.org//NONSGML kigkonsult.se iCalcreator 2.
 30.10//
CALSCALE:GREGORIAN
METHOD:PUBLISH
UID:9557a99c-261b-4606-b243-69bc4bcf4aac
X-WR-CALDESC:Join us for our last concert of the year featuring Exit 185.\n
 \n21+ older\n$12 admission includes drink ticket\n\nThank you to our spons
 ors:\nBand: Golf Cars of Iowa and Helena Industries\nBeer Garden: Grow Veg
 gie Plants and More\nSecurity: Hy-Vee\nConcession Zone: Kading Properties
X-WR-RELCALID:a38b55cc2b308768c8701741467ff70e
X-WR-TIMEZONE:America/Chicago
BEGIN:VTIMEZONE
TZID:America/Chicago
BEGIN:STANDARD
TZNAME:CST
DTSTART:20231105T020000
TZOFFSETFROM:-0500
TZOFFSETTO:-0600
RDATE:20241103T020000
RDATE:20251102T020000
END:STANDARD
BEGIN:DAYLIGHT
TZNAME:CDT
DTSTART:20240310T020000
TZOFFSETFROM:-0600
TZOFFSETTO:-0500
RDATE:20250309T020000
RDATE:20260308T020000
END:DAYLIGHT
END:VTIMEZONE
BEGIN:VEVENT
UID:36484252-bb49-4aa2-9c02-84ca179b4bf0
DTSTAMP:20260421T084755Z
DESCRIPTION:Join us for our last concert of the year featuring Exit 185.\n
 \n21+ older\n$12 admission includes drink ticket\n\nThank you to our spons
 ors:\nBand: Golf Cars of Iowa and Helena Industries\nBeer Garden: Grow Veg
 gie Plants and More\nSecurity: Hy-Vee\nConcession Zone: Kading Properties
DTSTART;TZID=America/Chicago:20241005T140000
DTEND;TZID=America/Chicago:20241005T170000
LOCATION:4390 E University Ave\, Pleasant Hill\, IA 50327 US
SUMMARY:CHILLtober Fest
END:VEVENT
END:VCALENDAR
