BEGIN:VCALENDAR
VERSION:2.0
PRODID:-//www.pleasanthillchamber.org//NONSGML kigkonsult.se iCalcreator 2.
 30.10//
CALSCALE:GREGORIAN
METHOD:PUBLISH
UID:6275e899-51cb-4010-be7b-c9643eebc2c0
X-WR-CALDESC:Join Young Professionals of Eastern Polk County (YPEP) for a f
 un night at the Iowa Cubs game! Meet us out front of Principal Park at 6:0
 0 p.m. on April 15th to grab your ticket and connect with fellow young pro
 fessionals before the game starts. Your registration includes a general ad
 mission ticket\, making this a great opportunity to network and enjoy a sp
 ring evening at the ballpark. Don’t miss out—register today!  \n\nKindly R
 SVP by April 8th.\n\nPayment methods: \nCredit card during registration\, 
 Cash\, or Venmo (@phiacc).
X-WR-RELCALID:e94a947696a0c80426250eb51a7760f4
X-WR-TIMEZONE:America/Chicago
BEGIN:VTIMEZONE
TZID:America/Chicago
BEGIN:STANDARD
TZNAME:CST
DTSTART:20241103T020000
TZOFFSETFROM:-0500
TZOFFSETTO:-0600
RDATE:20251102T020000
END:STANDARD
BEGIN:DAYLIGHT
TZNAME:CDT
DTSTART:20250309T020000
TZOFFSETFROM:-0600
TZOFFSETTO:-0500
RDATE:20260308T020000
END:DAYLIGHT
END:VTIMEZONE
BEGIN:VEVENT
UID:a13a661b-5547-49a6-a2c6-2a8ac5253a8a
DTSTAMP:20260421T085120Z
DESCRIPTION:Join Young Professionals of Eastern Polk County (YPEP) for a fu
 n night at the Iowa Cubs game! Meet us out front of Principal Park at 6:00
  p.m. on April 15th to grab your ticket and connect with fellow young prof
 essionals before the game starts. Your registration includes a general adm
 ission ticket\, making this a great opportunity to network and enjoy a spr
 ing evening at the ballpark. Don’t miss out—register today!  \n\nKindly RS
 VP by April 8th.\n\nPayment methods: \nCredit card during registration\, C
 ash\, or Venmo (@phiacc).
DTSTART;TZID=America/Chicago:20250415T183000
DTEND;TZID=America/Chicago:20250415T213000
LOCATION:1 Line Dr\, Des Moines\, IA 50309 US
SUMMARY:YPEP Night at the I-Cubs
END:VEVENT
END:VCALENDAR
