BEGIN:VCALENDAR
VERSION:2.0
PRODID:-//www.pleasanthillchamber.org//NONSGML kigkonsult.se iCalcreator 2.
 30.10//
CALSCALE:GREGORIAN
METHOD:PUBLISH
UID:7015493f-e2dc-4a4a-a068-e6a16452473b
X-WR-CALDESC:Don’t miss the exciting conclusion! Come out to see who is cro
 wned the 2026 Big Country Showdown karaoke star and takes home the $2\,500
  grand prize. Performances begin at 7pm.
X-WR-RELCALID:415ee3f354016ea2639eece5af7d463e
X-WR-TIMEZONE:America/Chicago
BEGIN:VTIMEZONE
TZID:America/Chicago
BEGIN:STANDARD
TZNAME:CST
DTSTART:20251102T020000
TZOFFSETFROM:-0500
TZOFFSETTO:-0600
RDATE:20261101T020000
END:STANDARD
BEGIN:DAYLIGHT
TZNAME:CDT
DTSTART:20250309T020000
TZOFFSETFROM:-0600
TZOFFSETTO:-0500
RDATE:20260308T020000
RDATE:20270314T020000
END:DAYLIGHT
END:VTIMEZONE
BEGIN:VEVENT
UID:82e8b9f3-488d-4292-b07b-02a8f47bb798
DTSTAMP:20260421T100753Z
DESCRIPTION:Don’t miss the exciting conclusion! Come out to see who is crow
 ned the 2026 Big Country Showdown karaoke star and takes home the $2\,500 
 grand prize. Performances begin at 7pm.
DTSTART;TZID=America/Chicago:20260227T190000
DTEND;TZID=America/Chicago:20260227T220000
LOCATION:1 Prairie Meadows Dr\, Altoona\, IA 50009 US
SUMMARY:Big Country Showdown Final Round
END:VEVENT
END:VCALENDAR
