BEGIN:VCALENDAR
VERSION:2.0
PRODID:-//www.pleasanthillchamber.org//NONSGML kigkonsult.se iCalcreator 2.
 30.10//
CALSCALE:GREGORIAN
METHOD:PUBLISH
UID:3e53810a-c1dd-4053-a6b8-eba969686d17
X-WR-CALDESC:
X-WR-RELCALID:769e43741052f9f3e4ee445de012064e
X-WR-TIMEZONE:America/Chicago
BEGIN:VTIMEZONE
TZID:America/Chicago
BEGIN:STANDARD
TZNAME:CST
DTSTART:20211107T020000
TZOFFSETFROM:-0500
TZOFFSETTO:-0600
RDATE:20221106T020000
RDATE:20231105T020000
END:STANDARD
BEGIN:DAYLIGHT
TZNAME:CDT
DTSTART:20220313T020000
TZOFFSETFROM:-0600
TZOFFSETTO:-0500
RDATE:20230312T020000
END:DAYLIGHT
END:VTIMEZONE
BEGIN:VEVENT
UID:474e44ba-784f-4493-8ccc-32a78a6080da
DTSTAMP:20260422T193355Z
DESCRIPTION:
DTSTART;TZID=America/Chicago:20220519T160000
DTEND;TZID=America/Chicago:20220519T180000
LOCATION:
SUMMARY:Regional Afterhours (Altoona)
END:VEVENT
END:VCALENDAR
