BEGIN:VCALENDAR
VERSION:2.0
PRODID:-//www.pleasanthillchamber.org//NONSGML kigkonsult.se iCalcreator 2.
 30.10//
CALSCALE:GREGORIAN
METHOD:PUBLISH
UID:aaf8bb16-cfd5-44ee-a6f2-02ab201eb753
X-WR-CALDESC:Learn about Artificial Intelligence during this informative wo
 rkshop with Global Reach.  There will be a short presentation followed by 
 some hands-on experience so please bring your laptop or tablet.\n\nBreakfa
 st refreshments will be provided.\n\nThank you to our sponsor: Polk County
  Supervisors for helping make this event possible!
X-WR-RELCALID:ee1f9536567aec93d9c644aa6ef4e76e
X-WR-TIMEZONE:America/Chicago
BEGIN:VTIMEZONE
TZID:America/Chicago
BEGIN:STANDARD
TZNAME:CST
DTSTART:20231105T020000
TZOFFSETFROM:-0500
TZOFFSETTO:-0600
RDATE:20241103T020000
RDATE:20251102T020000
END:STANDARD
BEGIN:DAYLIGHT
TZNAME:CDT
DTSTART:20240310T020000
TZOFFSETFROM:-0600
TZOFFSETTO:-0500
RDATE:20250309T020000
END:DAYLIGHT
END:VTIMEZONE
BEGIN:VEVENT
UID:09cc540a-2715-432c-bda9-5098aea80af4
DTSTAMP:20260421T084248Z
DESCRIPTION:Learn about Artificial Intelligence during this informative wor
 kshop with Global Reach.  There will be a short presentation followed by s
 ome hands-on experience so please bring your laptop or tablet.\n\nBreakfas
 t refreshments will be provided.\n\nThank you to our sponsor: Polk County 
 Supervisors for helping make this event possible!
DTSTART;TZID=America/Chicago:20240604T083000
DTEND;TZID=America/Chicago:20240604T093000
LOCATION:5850 Morning Star Court\, Pleasant Hill\, IA 50327 US
SUMMARY:June Power Hour: Artificial Intelligence
END:VEVENT
END:VCALENDAR
