BEGIN:VCALENDAR
VERSION:2.0
PRODID:-//www.pleasanthillchamber.org//NONSGML kigkonsult.se iCalcreator 2.
 30.10//
CALSCALE:GREGORIAN
METHOD:PUBLISH
UID:e2bb6b96-ec8f-4ca3-94c6-b49e92820efb
X-WR-CALDESC:o	Saturday\, August 3 – Beggar’s Bargain\, Rock\no	Saturday\, Au
 gust 10 – Jake McVey Band\, Country\no	Saturday\, August 17 – Dan Trilk\, C
 ountry/Rock\no	Saturday\, August 24 – Lincoln Highway\, Country/Rock\no	Satu
 rday\, August 31 – Hold On\, Rock
X-WR-RELCALID:990e5a71f67a4aa05ca92c7baa5d83b1
X-WR-TIMEZONE:America/Chicago
BEGIN:VTIMEZONE
TZID:America/Chicago
BEGIN:STANDARD
TZNAME:CST
DTSTART:20231105T020000
TZOFFSETFROM:-0500
TZOFFSETTO:-0600
RDATE:20241103T020000
RDATE:20251102T020000
END:STANDARD
BEGIN:DAYLIGHT
TZNAME:CDT
DTSTART:20240310T020000
TZOFFSETFROM:-0600
TZOFFSETTO:-0500
RDATE:20250309T020000
END:DAYLIGHT
END:VTIMEZONE
BEGIN:VEVENT
UID:06287b3f-1197-4c3e-affb-6b99bf8d88df
DTSTAMP:20260422T023635Z
DESCRIPTION:o	Saturday\, August 3 – Beggar’s Bargain\, Rock\no	Saturday\, Aug
 ust 10 – Jake McVey Band\, Country\no	Saturday\, August 17 – Dan Trilk\, Co
 untry/Rock\no	Saturday\, August 24 – Lincoln Highway\, Country/Rock\no	Satur
 day\, August 31 – Hold On\, Rock
DTSTART;TZID=America/Chicago:20240803T220000
DTEND;TZID=America/Chicago:20240804T000000
LOCATION:Finish Line Lounge at Prairie Meadows
SUMMARY:Saturday Night Entertainment
END:VEVENT
END:VCALENDAR
