BEGIN:VCALENDAR
VERSION:2.0
PRODID:-//www.pleasanthillchamber.org//NONSGML kigkonsult.se iCalcreator 2.
 30.10//
CALSCALE:GREGORIAN
METHOD:PUBLISH
UID:88521d1f-b316-4ff6-b434-888e7139a147
X-WR-CALDESC:Join Us for the Employer Connections Fair!\n\nLooking for your
  next career opportunity?\nOur Employer Connections Fair is designed to co
 nnect job seekers with local employers who are actively looking to hire!\n
 \nEmployers from a variety of industries will be on-site\, ready to meet a
 nd connect with individuals searching for job opportunities. Whether you'r
 e starting your career\, making a change\, or exploring new paths\, this e
 vent is a great chance to make valuable connections.\n\nWhy Attend?\nMeet 
 employers face-to-face\nExplore open positions across industries\nLearn ab
 out different companies and career paths\nTake the next step toward your c
 areer goals\n\nWe look forward to seeing you there!\n\nPremier Partners:\n
 Southeast Polk Community School District\nHeartland Roofing\, Siding\, and
  Solar\nPrairie Meadows Racetrack\, Casino\, and Hotel\nParkridge Specialt
 y Care\nHelena Industries\nSleepy Hollow Sports Park\n\nThe following busi
 nesses will also be on site:\nCintas\nPrimerica\nMetro Waste Authority\nIm
 manuel- Copper Shores Village\nClog Busters
X-WR-RELCALID:e69db450b282d2542908deaf0bdb2c17
X-WR-TIMEZONE:America/Chicago
BEGIN:VTIMEZONE
TZID:America/Chicago
BEGIN:STANDARD
TZNAME:CST
DTSTART:20241103T020000
TZOFFSETFROM:-0500
TZOFFSETTO:-0600
RDATE:20251102T020000
RDATE:20261101T020000
END:STANDARD
BEGIN:DAYLIGHT
TZNAME:CDT
DTSTART:20250309T020000
TZOFFSETFROM:-0600
TZOFFSETTO:-0500
RDATE:20260308T020000
END:DAYLIGHT
END:VTIMEZONE
BEGIN:VEVENT
UID:583023c0-230f-41d4-89fb-b8efb4355282
DTSTAMP:20260421T191840Z
DESCRIPTION:Join Us for the Employer Connections Fair!\n\nLooking for your 
 next career opportunity?\nOur Employer Connections Fair is designed to con
 nect job seekers with local employers who are actively looking to hire!\n
 \nEmployers from a variety of industries will be on-site\, ready to meet a
 nd connect with individuals searching for job opportunities. Whether you'r
 e starting your career\, making a change\, or exploring new paths\, this e
 vent is a great chance to make valuable connections.\n\nWhy Attend?\nMeet 
 employers face-to-face\nExplore open positions across industries\nLearn ab
 out different companies and career paths\nTake the next step toward your c
 areer goals\n\nWe look forward to seeing you there!\n\nPremier Partners:\n
 Southeast Polk Community School District\nHeartland Roofing\, Siding\, and
  Solar\nPrairie Meadows Racetrack\, Casino\, and Hotel\nParkridge Specialt
 y Care\nHelena Industries\nSleepy Hollow Sports Park\n\nThe following busi
 nesses will also be on site:\nCintas\nPrimerica\nMetro Waste Authority\nIm
 manuel- Copper Shores Village\nClog Busters
DTSTART;TZID=America/Chicago:20250515T153000
DTEND;TZID=America/Chicago:20250515T173000
LOCATION:5050 Doanes Park Rd\, Doanes Park Youth Center\, Pleasant Hill\, I
 A 50327 US
SUMMARY:Employer Connections Fair
END:VEVENT
END:VCALENDAR
