BEGIN:VCALENDAR
VERSION:2.0
PRODID:-//www.pleasanthillchamber.org//NONSGML kigkonsult.se iCalcreator 2.
 30.10//
CALSCALE:GREGORIAN
METHOD:PUBLISH
UID:621a0de5-096e-4450-8bf1-d5af90476d5d
X-WR-CALDESC:Don't miss your chance to come to the event of the season.\n\n
 Jazz up the night like it's 1920 when you step into their Speakeasy club\,
  complete with backroom casino\, vintage lounge & signature cocktails. Fli
 ghts of heavy hors d'oeuvres will be available all night with the night ca
 pped off by original Des Moines Piano Man Tony Bohnenkamp.\n\nSo bring you
 r friends & come join us for a rip roaring good time to benefit SEP Dollar
 s for Scholars.\nTickets now available\n\n$65 / each or $325 for table of 
 6\n[please note : This event is designed for adult attendees]
X-WR-RELCALID:5d720001eb8942ac7cc6effd222cb915
X-WR-TIMEZONE:America/Chicago
BEGIN:VTIMEZONE
TZID:America/Chicago
BEGIN:STANDARD
TZNAME:CST
DTSTART:20241103T020000
TZOFFSETFROM:-0500
TZOFFSETTO:-0600
RDATE:20251102T020000
RDATE:20261101T020000
END:STANDARD
BEGIN:DAYLIGHT
TZNAME:CDT
DTSTART:20250309T020000
TZOFFSETFROM:-0600
TZOFFSETTO:-0500
RDATE:20260308T020000
RDATE:20270314T020000
END:DAYLIGHT
END:VTIMEZONE
BEGIN:VEVENT
UID:22bc1fba-7c90-402f-94fa-c5c2ec2afdc0
DTSTAMP:20260421T163410Z
DESCRIPTION:Don't miss your chance to come to the event of the season.\n\nJ
 azz up the night like it's 1920 when you step into their Speakeasy club\, 
 complete with backroom casino\, vintage lounge & signature cocktails. Flig
 hts of heavy hors d'oeuvres will be available all night with the night cap
 ped off by original Des Moines Piano Man Tony Bohnenkamp.\n\nSo bring your
  friends & come join us for a rip roaring good time to benefit SEP Dollars
  for Scholars.\nTickets now available\n\n$65 / each or $325 for table of 6
 \n[please note : This event is designed for adult attendees]
DTSTART;TZID=America/Chicago:20251025T170000
DTEND;TZID=America/Chicago:20251025T223000
LOCATION:Iowa State Fairgrounds\, Knapp Learning Center\, Des Moines\, IA 5
 0317 US
SUMMARY:SEP Dollars For Scholars 2025 Speakeasy Soiree
END:VEVENT
END:VCALENDAR
