BEGIN:VCALENDAR
VERSION:2.0
PRODID:-//www.pleasanthillchamber.org//NONSGML kigkonsult.se iCalcreator 2.
 30.10//
CALSCALE:GREGORIAN
METHOD:PUBLISH
UID:a3cb469a-9447-4206-8445-3813947e14da
X-WR-CALDESC:
X-WR-RELCALID:864f69aacc9c69762726f9cfde0fdda4
X-WR-TIMEZONE:America/Chicago
BEGIN:VTIMEZONE
TZID:America/Chicago
BEGIN:STANDARD
TZNAME:CST
DTSTART:20251102T020000
TZOFFSETFROM:-0500
TZOFFSETTO:-0600
RDATE:20261101T020000
END:STANDARD
BEGIN:DAYLIGHT
TZNAME:CDT
DTSTART:20260308T020000
TZOFFSETFROM:-0600
TZOFFSETTO:-0500
RDATE:20270314T020000
END:DAYLIGHT
END:VTIMEZONE
BEGIN:VEVENT
UID:f676a656-8710-40e1-abb5-f17863e2f25d
DTSTAMP:20260421T085147Z
DESCRIPTION:
DTSTART;TZID=America/Chicago:20260313T140000
DTEND;TZID=America/Chicago:20260313T160000
LOCATION:6151 Martha L. Miller Dr\, Pleasant Hill\, IA 50327 US
SUMMARY:Edencrest at Pleasant Hill: Pi Day Celebration
END:VEVENT
END:VCALENDAR
