BEGIN:VCALENDAR
VERSION:2.0
PRODID:-//www.pleasanthillchamber.org//NONSGML kigkonsult.se iCalcreator 2.
 30.10//
CALSCALE:GREGORIAN
METHOD:PUBLISH
UID:ce898228-6c74-4bc4-8c45-43fc555d762e
X-WR-CALDESC:Kick off your morning with great people and great conversation
 s.\n\nJoin us for Breakfast Club: Tour Your Chamber at Pennie Carroll & As
 sociates on Tuesday\, May 19th\, 7:30–8:30 AM at 3232 Hubbell Ave\, Des Mo
 ines.\nEnjoy a light breakfast\, casual networking\, and an inside look at
  their business.\n\nFree to attend—everyone’s welcome!  Kindly RSVP by Fri
 day\, May 15th.
X-WR-RELCALID:9ec6925cca2416af8f6b053ab25fba23
X-WR-TIMEZONE:America/Chicago
BEGIN:VTIMEZONE
TZID:America/Chicago
BEGIN:STANDARD
TZNAME:CST
DTSTART:20251102T020000
TZOFFSETFROM:-0500
TZOFFSETTO:-0600
RDATE:20261101T020000
RDATE:20271107T020000
END:STANDARD
BEGIN:DAYLIGHT
TZNAME:CDT
DTSTART:20260308T020000
TZOFFSETFROM:-0600
TZOFFSETTO:-0500
RDATE:20270314T020000
END:DAYLIGHT
END:VTIMEZONE
BEGIN:VEVENT
UID:138cacc0-3f1a-4558-bc76-ea2718f23c14
DTSTAMP:20260422T110953Z
DESCRIPTION:Kick off your morning with great people and great conversations
 .\n\nJoin us for Breakfast Club: Tour Your Chamber at Pennie Carroll & Ass
 ociates on Tuesday\, May 19th\, 7:30–8:30 AM at 3232 Hubbell Ave\, Des Moi
 nes.\nEnjoy a light breakfast\, casual networking\, and an inside look at 
 their business.\n\nFree to attend—everyone’s welcome!  Kindly RSVP by Frid
 ay\, May 15th.
DTSTART;TZID=America/Chicago:20260519T073000
DTEND;TZID=America/Chicago:20260519T083000
LOCATION:3232 Hubbell Ave\, Des Moines\, IA 50317 US
SUMMARY:Breakfast Club: Tour Your Chamber
END:VEVENT
END:VCALENDAR
