BEGIN:VCALENDAR
VERSION:2.0
PRODID:-//www.pleasanthillchamber.org//NONSGML kigkonsult.se iCalcreator 2.
 30.10//
CALSCALE:GREGORIAN
METHOD:PUBLISH
UID:3b20275b-6120-4f36-8e73-9818001ab15a
X-WR-CALDESC:🎶Chill on the Hill featuring Drive Thrity5 🎶n\nGet ready for a
  great night of live music\, food\, and fun at Chill on the Hill! Join us 
 for an evening featuring high-energy live music from Drive Thirty5\, playi
 ng crowd favorites that will keep you dancing and singing along all night.
 \n\nNon-Profit Workers Night: the first 50 non-profit workers showing prop
 er ID will receive free admission courtesy of Prairie Meadows Racetrack\, 
 Casino\, and Hotel.\n\n🍻how up early and score the deal: $10 before 6:30\,
  $12 after. All admissions come with a drink ticket.\n🎵Live music by Drive
  Thirty5\n🍔Food vendor on site\n🔞21+ event – valid ID required\n\nBring yo
 ur friends and enjoy a laid-back evening of music\, drinks\, and great com
 munity vibes. We can’t wait to see you there! 🎶😎n\nConcession Zone: Kading
  Properties
X-WR-RELCALID:6fee63b7200fcca27c8f325a4a8b8e68
X-WR-TIMEZONE:America/Chicago
BEGIN:VTIMEZONE
TZID:America/Chicago
BEGIN:STANDARD
TZNAME:CST
DTSTART:20251102T020000
TZOFFSETFROM:-0500
TZOFFSETTO:-0600
RDATE:20261101T020000
RDATE:20271107T020000
END:STANDARD
BEGIN:DAYLIGHT
TZNAME:CDT
DTSTART:20260308T020000
TZOFFSETFROM:-0600
TZOFFSETTO:-0500
RDATE:20270314T020000
END:DAYLIGHT
END:VTIMEZONE
BEGIN:VEVENT
UID:0dc01c64-8490-4ad2-973f-eed092de01e0
DTSTAMP:20260422T095646Z
DESCRIPTION:🎶Chill on the Hill featuring Drive Thrity5 🎶n\nGet ready for a 
 great night of live music\, food\, and fun at Chill on the Hill! Join us f
 or an evening featuring high-energy live music from Drive Thirty5\, playin
 g crowd favorites that will keep you dancing and singing along all night.
 \n\nNon-Profit Workers Night: the first 50 non-profit workers showing prop
 er ID will receive free admission courtesy of Prairie Meadows Racetrack\, 
 Casino\, and Hotel.\n\n🍻how up early and score the deal: $10 before 6:30\,
  $12 after. All admissions come with a drink ticket.\n🎵Live music by Drive
  Thirty5\n🍔Food vendor on site\n🔞21+ event – valid ID required\n\nBring yo
 ur friends and enjoy a laid-back evening of music\, drinks\, and great com
 munity vibes. We can’t wait to see you there! 🎶😎n\nConcession Zone: Kading
  Properties
DTSTART;TZID=America/Chicago:20260619T180000
DTEND;TZID=America/Chicago:20260619T210000
LOCATION:4390 E University Ave\, Pleasant Hill\, IA 50327 US
SUMMARY:Chill on the Hill: Drive Thirty5
END:VEVENT
END:VCALENDAR
