BEGIN:VCALENDAR
VERSION:2.0
PRODID:-//www.pleasanthillchamber.org//NONSGML kigkonsult.se iCalcreator 2.
 30.10//
CALSCALE:GREGORIAN
METHOD:PUBLISH
UID:db520e8f-3462-4fb2-aad6-dfa56a3530ae
X-WR-CALDESC:Office will be closed in observation of Thanksgiving.
X-WR-RELCALID:fdd2611694dec5717a7ac08d28906058
X-WR-TIMEZONE:America/Chicago
BEGIN:VTIMEZONE
TZID:America/Chicago
BEGIN:STANDARD
TZNAME:CST
DTSTART:20221106T020000
TZOFFSETFROM:-0500
TZOFFSETTO:-0600
RDATE:20231105T020000
END:STANDARD
BEGIN:DAYLIGHT
TZNAME:CDT
DTSTART:20220313T020000
TZOFFSETFROM:-0600
TZOFFSETTO:-0500
RDATE:20230312T020000
RDATE:20240310T020000
END:DAYLIGHT
END:VTIMEZONE
BEGIN:VEVENT
UID:3766f427-366b-4073-971c-955d2f8f2795
DTSTAMP:20260421T085833Z
DESCRIPTION:Office will be closed in observation of Thanksgiving.
DTSTART;TZID=America/Chicago:20221124T000000
DTEND;TZID=America/Chicago:20221124T235900
LOCATION:
SUMMARY:Office Closed
END:VEVENT
END:VCALENDAR
