BEGIN:VCALENDAR
VERSION:2.0
PRODID:-//www.pleasanthillchamber.org//NONSGML kigkonsult.se iCalcreator 2.
 30.10//
CALSCALE:GREGORIAN
METHOD:PUBLISH
UID:8fd53a31-30c3-42c5-8a5b-f5c6ba4cdfa0
X-WR-CALDESC:Join them for an exclusive open house event as they unveil the
 ir newly updated activities and billiards rooms.\nRSVP are encouraged by n
 ot required.
X-WR-RELCALID:e6677c135ea84f7fc1ef42ef5d66b6fd
X-WR-TIMEZONE:America/Chicago
BEGIN:VTIMEZONE
TZID:America/Chicago
BEGIN:STANDARD
TZNAME:CST
DTSTART:20231105T020000
TZOFFSETFROM:-0500
TZOFFSETTO:-0600
RDATE:20241103T020000
END:STANDARD
BEGIN:DAYLIGHT
TZNAME:CDT
DTSTART:20240310T020000
TZOFFSETFROM:-0600
TZOFFSETTO:-0500
RDATE:20250309T020000
END:DAYLIGHT
END:VTIMEZONE
BEGIN:VEVENT
UID:9f142a14-5f4d-4d55-8d0b-a305e1e7e91c
DTSTAMP:20260421T030112Z
DESCRIPTION:Join them for an exclusive open house event as they unveil thei
 r newly updated activities and billiards rooms.\nRSVP are encouraged by no
 t required.
DTSTART;TZID=America/Chicago:20240411T140000
DTEND;TZID=America/Chicago:20240411T160000
LOCATION:1500 Edgewater Dr\, Pleasant Hill\, IA 50327 US
SUMMARY:Copper Shores Village: Community Open House
END:VEVENT
END:VCALENDAR
