BEGIN:VCALENDAR
VERSION:2.0
PRODID:-//www.pleasanthillchamber.org//NONSGML kigkonsult.se iCalcreator 2.
 30.10//
CALSCALE:GREGORIAN
METHOD:PUBLISH
UID:794ac062-534a-4fef-a48a-5174b9864f89
X-WR-CALDESC:•	Friday Night Entertainment – 8:00 P.M.\, Finish Line Show Lou
 nge\no	Friday\, October 4 – Lincoln Highway\, Country/Rock\no	Friday\, Octob
 er 11 – Dan Trilk\, Country/Rock\no	Friday\, October 18 – Jesse and the Med
 icine Men\, Country\no	Friday\, October 25 – Beggar’s Bargain\, Rock\n
X-WR-RELCALID:fa34a1927d7137840f4ce469bebf4a52
X-WR-TIMEZONE:America/Chicago
BEGIN:VTIMEZONE
TZID:America/Chicago
BEGIN:STANDARD
TZNAME:CST
DTSTART:20231105T020000
TZOFFSETFROM:-0500
TZOFFSETTO:-0600
RDATE:20241103T020000
RDATE:20251102T020000
END:STANDARD
BEGIN:DAYLIGHT
TZNAME:CDT
DTSTART:20240310T020000
TZOFFSETFROM:-0600
TZOFFSETTO:-0500
RDATE:20250309T020000
RDATE:20260308T020000
END:DAYLIGHT
END:VTIMEZONE
BEGIN:VEVENT
UID:b6625c4c-aa4c-4d00-ab6c-4b87ed86e7a0
DTSTAMP:20260421T100753Z
DESCRIPTION:•	Friday Night Entertainment – 8:00 P.M.\, Finish Line Show Loun
 ge\no	Friday\, October 4 – Lincoln Highway\, Country/Rock\no	Friday\, Octobe
 r 11 – Dan Trilk\, Country/Rock\no	Friday\, October 18 – Jesse and the Medi
 cine Men\, Country\no	Friday\, October 25 – Beggar’s Bargain\, Rock\n
DTSTART;TZID=America/Chicago:20241004T200000
DTEND;TZID=America/Chicago:20241004T230000
LOCATION:Finish Line Lounge at Prairie Meadows
SUMMARY:Friday Night Entertainment
END:VEVENT
END:VCALENDAR
